BEGIN:VCALENDAR
VERSION:2.0
PRODID:-//Santa Cruz Museum of Natural History - ECPv6.15.20//NONSGML v1.0//EN
CALSCALE:GREGORIAN
METHOD:PUBLISH
X-ORIGINAL-URL:https://santacruzmuseum.org
X-WR-CALDESC:Events for Santa Cruz Museum of Natural History
REFRESH-INTERVAL;VALUE=DURATION:PT1H
X-Robots-Tag:noindex
X-PUBLISHED-TTL:PT1H
BEGIN:VTIMEZONE
TZID:America/Los_Angeles
BEGIN:DAYLIGHT
TZOFFSETFROM:-0800
TZOFFSETTO:-0700
TZNAME:PDT
DTSTART:20250309T100000
END:DAYLIGHT
BEGIN:STANDARD
TZOFFSETFROM:-0700
TZOFFSETTO:-0800
TZNAME:PST
DTSTART:20251102T090000
END:STANDARD
BEGIN:DAYLIGHT
TZOFFSETFROM:-0800
TZOFFSETTO:-0700
TZNAME:PDT
DTSTART:20260308T100000
END:DAYLIGHT
BEGIN:STANDARD
TZOFFSETFROM:-0700
TZOFFSETTO:-0800
TZNAME:PST
DTSTART:20261101T090000
END:STANDARD
BEGIN:DAYLIGHT
TZOFFSETFROM:-0800
TZOFFSETTO:-0700
TZNAME:PDT
DTSTART:20270314T100000
END:DAYLIGHT
BEGIN:STANDARD
TZOFFSETFROM:-0700
TZOFFSETTO:-0800
TZNAME:PST
DTSTART:20271107T090000
END:STANDARD
END:VTIMEZONE
BEGIN:VEVENT
DTSTART;TZID=America/Los_Angeles:20260607T150000
DTEND;TZID=America/Los_Angeles:20260607T170000
DTSTAMP:20260421T083732
CREATED:20260420T203906Z
LAST-MODIFIED:20260420T204030Z
UID:10000488-1780844400-1780851600@santacruzmuseum.org
SUMMARY:La Vita Release Party
DESCRIPTION:Wine is about more than grapes\, it’s art\, community\, and connection. As an homage to our Northern Italian roots\, Bargetto Winery grows three Italian varietals at Regan Vineyards in Corralitos: Dolcetto\, Nebbiolo\, and Refosco. For 25 years now\, we have thoughtfully blended these grapes to produce our flagship wine\, La Vita. Each year\, we select a work of art to use as our label for that vintage of La Vita. The only rule is that the label art must involve wine. As times change\, so does the art on our bottles\, a reflection of the world around us. Mirroring the thoughtfulness with which we create La Vita\, we select a local non-profit to which we donate proceeds from La Vita sales. Bargetto Winery is extremely excited to announce our next beneficiary of the La Vita program and will reveal the organization at the release party on June 7 th \, 2026. The 2022 La Vita has been carefully aging for nearly four years now: two in barrel and two in bottle\, and we’re thrilled to share it with you. Buy your tickets now to attend the release party\, try our previous vintages of La Vita\, enjoy live music and hear about the world of wine\, art\, and community. \nBargetto Winery is happy to allocate 25 La Vita Release Party tickets to members of the Santa Cruz Museum of Natural History at the same pricing as the winery’s Wine Club member tickets. To purchase tickets at member pricing\, use the coupon code “MuseumWine” at checkout under “Order Details\,” but be sure to select a “general” ticket using the link below.\nhttps://bargetto.orderport.net/product-details/0665/la-vita-release-party
URL:https://santacruzmuseum.org/event/la-vita-release-party/
LOCATION:Bargetto Winery\, 3535 N Main St.\, Soquel\, CA\, 95073\, United States
CATEGORIES:Special Event
ATTACH;FMTTYPE=image/png:https://santacruzmuseum.org/wp-content/uploads/2026/04/1600x900-Website-Event-Images-4.png
END:VEVENT
END:VCALENDAR