BEGIN:VCALENDAR
VERSION:2.0
PRODID:-//Santa Cruz Museum of Natural History - ECPv6.15.20//NONSGML v1.0//EN
CALSCALE:GREGORIAN
METHOD:PUBLISH
X-ORIGINAL-URL:https://santacruzmuseum.org
X-WR-CALDESC:Events for Santa Cruz Museum of Natural History
REFRESH-INTERVAL;VALUE=DURATION:PT1H
X-Robots-Tag:noindex
X-PUBLISHED-TTL:PT1H
BEGIN:VTIMEZONE
TZID:America/Los_Angeles
BEGIN:DAYLIGHT
TZOFFSETFROM:-0800
TZOFFSETTO:-0700
TZNAME:PDT
DTSTART:20240310T100000
END:DAYLIGHT
BEGIN:STANDARD
TZOFFSETFROM:-0700
TZOFFSETTO:-0800
TZNAME:PST
DTSTART:20241103T090000
END:STANDARD
BEGIN:DAYLIGHT
TZOFFSETFROM:-0800
TZOFFSETTO:-0700
TZNAME:PDT
DTSTART:20250309T100000
END:DAYLIGHT
BEGIN:STANDARD
TZOFFSETFROM:-0700
TZOFFSETTO:-0800
TZNAME:PST
DTSTART:20251102T090000
END:STANDARD
BEGIN:DAYLIGHT
TZOFFSETFROM:-0800
TZOFFSETTO:-0700
TZNAME:PDT
DTSTART:20260308T100000
END:DAYLIGHT
BEGIN:STANDARD
TZOFFSETFROM:-0700
TZOFFSETTO:-0800
TZNAME:PST
DTSTART:20261101T090000
END:STANDARD
BEGIN:DAYLIGHT
TZOFFSETFROM:-0800
TZOFFSETTO:-0700
TZNAME:PDT
DTSTART:20270314T100000
END:DAYLIGHT
BEGIN:STANDARD
TZOFFSETFROM:-0700
TZOFFSETTO:-0800
TZNAME:PST
DTSTART:20271107T090000
END:STANDARD
END:VTIMEZONE
BEGIN:VTIMEZONE
TZID:UTC
BEGIN:STANDARD
TZOFFSETFROM:+0000
TZOFFSETTO:+0000
TZNAME:UTC
DTSTART:20240101T000000
END:STANDARD
END:VTIMEZONE
BEGIN:VEVENT
DTSTART;TZID=America/Los_Angeles:20260414T163000
DTEND;TZID=America/Los_Angeles:20260414T180000
DTSTAMP:20260420T021820
CREATED:20251224T064000Z
LAST-MODIFIED:20260118T000452Z
UID:10000420-1776184200-1776189600@santacruzmuseum.org
SUMMARY:Afterschool Activities: Arte del Corazón
DESCRIPTION:Every third Tuesday of the month\, Watsonville community members are invited to Arte del Corazón (ADC)\, where our team will contribute a guided and interactive activity alongside existing programming. \nCada tercer martes del mes\, los miembros de la comunidad de Watsonville están invitados a Arte del Corazón (ADC)\, donde nuestro equipo contribuirá una actividad guiada e interactiva a las actividades existentes. \n__________________________________________________________________________________________________________ \nThe event is ADA accessible. Materials will be provided. The event will be indoors. \nThese programs are funded by the Outdoor Equity Grants Program\, created through AB 209 and administered by California State Parks\, Office of Grants and Local Services. \nEstos programas son financiados por el Programa de Subvenciones de Equidad al Aire Libre\, creado a través AB 209 y administrado por la Oficina de Subvenciones y Servicios Locales de Parque Estatales de California.
URL:https://santacruzmuseum.org/event/afterschool-activities-arte-del-corazon/2026-04-14/
LOCATION:Arte del Corazón\, 7 Hangar Way Unit B\, Watsonville\, CA\, 95076\, United States
CATEGORIES:Vamos Afuera
ATTACH;FMTTYPE=image/png:https://santacruzmuseum.org/wp-content/uploads/2025/12/5.png
END:VEVENT
BEGIN:VEVENT
DTSTART;TZID=America/Los_Angeles:20260317T163000
DTEND;TZID=America/Los_Angeles:20260317T180000
DTSTAMP:20260420T021820
CREATED:20251224T064000Z
LAST-MODIFIED:20260118T000452Z
UID:10000419-1773765000-1773770400@santacruzmuseum.org
SUMMARY:Afterschool Activities: Arte del Corazón
DESCRIPTION:Every third Tuesday of the month\, Watsonville community members are invited to Arte del Corazón (ADC)\, where our team will contribute a guided and interactive activity alongside existing programming. \nCada tercer martes del mes\, los miembros de la comunidad de Watsonville están invitados a Arte del Corazón (ADC)\, donde nuestro equipo contribuirá una actividad guiada e interactiva a las actividades existentes. \n__________________________________________________________________________________________________________ \nThe event is ADA accessible. Materials will be provided. The event will be indoors. \nThese programs are funded by the Outdoor Equity Grants Program\, created through AB 209 and administered by California State Parks\, Office of Grants and Local Services. \nEstos programas son financiados por el Programa de Subvenciones de Equidad al Aire Libre\, creado a través AB 209 y administrado por la Oficina de Subvenciones y Servicios Locales de Parque Estatales de California.
URL:https://santacruzmuseum.org/event/afterschool-activities-arte-del-corazon/2026-03-17/
LOCATION:Arte del Corazón\, 7 Hangar Way Unit B\, Watsonville\, CA\, 95076\, United States
CATEGORIES:Vamos Afuera
ATTACH;FMTTYPE=image/png:https://santacruzmuseum.org/wp-content/uploads/2025/12/5.png
END:VEVENT
BEGIN:VEVENT
DTSTART;TZID=America/Los_Angeles:20260120T163000
DTEND;TZID=America/Los_Angeles:20260120T180000
DTSTAMP:20260420T021820
CREATED:20251224T064000Z
LAST-MODIFIED:20260118T000452Z
UID:10000331-1768926600-1768932000@santacruzmuseum.org
SUMMARY:Afterschool Activities: Arte del Corazón
DESCRIPTION:Every third Tuesday of the month\, Watsonville community members are invited to Arte del Corazón (ADC)\, where our team will contribute a guided and interactive activity alongside existing programming. \nCada tercer martes del mes\, los miembros de la comunidad de Watsonville están invitados a Arte del Corazón (ADC)\, donde nuestro equipo contribuirá una actividad guiada e interactiva a las actividades existentes. \n__________________________________________________________________________________________________________ \nThe event is ADA accessible. Materials will be provided. The event will be indoors. \nThese programs are funded by the Outdoor Equity Grants Program\, created through AB 209 and administered by California State Parks\, Office of Grants and Local Services. \nEstos programas son financiados por el Programa de Subvenciones de Equidad al Aire Libre\, creado a través AB 209 y administrado por la Oficina de Subvenciones y Servicios Locales de Parque Estatales de California.
URL:https://santacruzmuseum.org/event/afterschool-activities-arte-del-corazon/2026-01-20/
LOCATION:Arte del Corazón\, 7 Hangar Way Unit B\, Watsonville\, CA\, 95076\, United States
CATEGORIES:Vamos Afuera
ATTACH;FMTTYPE=image/png:https://santacruzmuseum.org/wp-content/uploads/2025/12/5.png
END:VEVENT
BEGIN:VEVENT
DTSTART;TZID=America/Los_Angeles:20250617T163000
DTEND;TZID=America/Los_Angeles:20250617T183000
DTSTAMP:20260420T021820
CREATED:20250516T214049Z
LAST-MODIFIED:20250516T214049Z
UID:10000165-1750177800-1750185000@santacruzmuseum.org
SUMMARY:After School Activity: Mammals
DESCRIPTION:Discover local wildlife and take on the egg drop challenge — science meets adventure! \nFree and open to Watsonville Residents \n¡Descubre las especies locales y participa en el desafío del huevo — ciencia y aventura se unen! \n\nThese programs are funded by the Outdoor Equity Grants Program\, created through AB 209 and administered by California State Parks\, Office of Grants and Local Services. \nEstos programas son financiados por el Programa de Subvenciones de Equidad al Aire Libre\, creado a través AB 209 y administrado por la Oficina de Subvenciones y Servicios Locales de Parque Estatales de California.
URL:https://santacruzmuseum.org/event/after-school-activity-mammals-2/
LOCATION:Arte del Corazón\, 7 Hangar Way Unit B\, Watsonville\, CA\, 95076\, United States
CATEGORIES:Vamos Afuera
ATTACH;FMTTYPE=image/png:https://santacruzmuseum.org/wp-content/uploads/2025/05/environment-science-workshop-nature-journal.png
END:VEVENT
BEGIN:VEVENT
DTSTART;TZID=UTC:20250602T163000
DTEND;TZID=UTC:20250602T183000
DTSTAMP:20260420T021820
CREATED:20250516T211842Z
LAST-MODIFIED:20250516T212822Z
UID:10000162-1748881800-1748889000@santacruzmuseum.org
SUMMARY:After-School Activity: Ornithology
DESCRIPTION:Meet our local birds and craft your own mushroom hat — nature and fun in one! \nFree and open to Watsonville residents. \n¡Conoce las aves de nuestra zona y crea tu propio sombrero de hongo — naturaleza y diversión en uno!  \n\nThese programs are funded by the Outdoor Equity Grants Program\, created through AB 209 and administered by California State Parks\, Office of Grants and Local Services. \nEstos programas son financiados por el Programa de Subvenciones de Equidad al Aire Libre\, creado a través AB 209 y administrado por la Oficina de Subvenciones y Servicios Locales de Parque Estatales de California.
URL:https://santacruzmuseum.org/event/after-school-activity-animal-tracks-copy-copy-copy/
LOCATION:Arte del Corazón\, 7 Hangar Way Unit B\, Watsonville\, CA\, 95076\, United States
CATEGORIES:Vamos Afuera
ATTACH;FMTTYPE=image/png:https://santacruzmuseum.org/wp-content/uploads/2025/04/musrhoom-hats-event.png
END:VEVENT
BEGIN:VEVENT
DTSTART;TZID=UTC:20250520T163000
DTEND;TZID=UTC:20250520T183000
DTSTAMP:20260420T021820
CREATED:20250421T031440Z
LAST-MODIFIED:20250516T212450Z
UID:10000150-1747758600-1747765800@santacruzmuseum.org
SUMMARY:After-School Activity: Geology
DESCRIPTION:Dig into fun! Discover rocks\, fossils\, and the secrets of our Earth! We will be at Arte del Corazon every 1st and 3rd Wednesday of the month. \nFree and open to Watsonville residents. \n¡Explora y diviértete! Descubre rocas\, fósiles y los secretos de nuestra Tierra! Estaremos en Arte del Corazón cada 1er y 3er miércoles del mes. \n\nThese programs are funded by the Outdoor Equity Grants Program\, created through AB 209 and administered by California State Parks\, Office of Grants and Local Services. \nEstos programas son financiados por el Programa de Subvenciones de Equidad al Aire Libre\, creado a través AB 209 y administrado por la Oficina de Subvenciones y Servicios Locales de Parque Estatales de California.
URL:https://santacruzmuseum.org/event/after-school-activity-animal-tracks-copy-copy/
LOCATION:Arte del Corazón\, 7 Hangar Way Unit B\, Watsonville\, CA\, 95076\, United States
CATEGORIES:Vamos Afuera
ATTACH;FMTTYPE=image/jpeg:https://santacruzmuseum.org/wp-content/uploads/2025/04/Geology-Rock-Box-Collection-scaled-e1637266468448-2048x1152-1.jpeg
END:VEVENT
BEGIN:VEVENT
DTSTART;TZID=UTC:20250506T163000
DTEND;TZID=UTC:20250506T183000
DTSTAMP:20260420T021820
CREATED:20250421T025256Z
LAST-MODIFIED:20250421T025336Z
UID:10000145-1746549000-1746556200@santacruzmuseum.org
SUMMARY:After-School Activity: Animal Tracks
DESCRIPTION:Come learn about local mammals and their tracks. Come and create an animal track for your to take home! We will be at Arte del Corazon every 1st and 3rd Wednesday of the month! Free and open to Watsonville residents. \nVenga a aprender sobre los mamíferos locales y sus huellas. ¡Venga a crear una huella de animal para llevar a casa! ¡Estaremos en Arte del Corazón cada 1er y 3er miércoles del mes! \n\nThese programs are funded by the Outdoor Equity Grants Program\, created through AB 209 and administered by California State Parks\, Office of Grants and Local Services. \nEstos programas son financiados por el Programa de Subvenciones de Equidad al Aire Libre\, creado a través AB 209 y administrado por la Oficina de Subvenciones y Servicios Locales de Parque Estatales de California.
URL:https://santacruzmuseum.org/event/after-school-activity-animal-tracks-copy/
LOCATION:Arte del Corazón\, 7 Hangar Way Unit B\, Watsonville\, CA\, 95076\, United States
CATEGORIES:Vamos Afuera
ATTACH;FMTTYPE=image/png:https://santacruzmuseum.org/wp-content/uploads/2025/04/OEP-Animal-Tracks.png
END:VEVENT
BEGIN:VEVENT
DTSTART;TZID=UTC:20250415T163000
DTEND;TZID=UTC:20250415T183000
DTSTAMP:20260420T021820
CREATED:20250411T060015Z
LAST-MODIFIED:20250413T084521Z
UID:10000124-1744734600-1744741800@santacruzmuseum.org
SUMMARY:After-School Activity: Animal Tracks
DESCRIPTION:Come learn about local mammals and their tracks. Come and create an animal track for your to take home! We will be at Arte del Corazon every 1st and 3rd Wednesday of the month! Free and open to Watsonville residents. \nVenga a aprender sobre los mamíferos locales y sus huellas. ¡Venga a crear una huella de animal para llevar a casa! ¡Estaremos en Arte del Corazón cada 1er y 3er miércoles del mes! \n\nThese programs are funded by the Outdoor Equity Grants Program\, created through AB 209 and administered by California State Parks\, Office of Grants and Local Services. \nEstos programas son financiados por el Programa de Subvenciones de Equidad al Aire Libre\, creado a través AB 209 y administrado por la Oficina de Subvenciones y Servicios Locales de Parque Estatales de California.
URL:https://santacruzmuseum.org/event/after-school-activity-animal-tracks/
LOCATION:Arte del Corazón\, 7 Hangar Way Unit B\, Watsonville\, CA\, 95076\, United States
CATEGORIES:Vamos Afuera
ATTACH;FMTTYPE=image/png:https://santacruzmuseum.org/wp-content/uploads/2025/04/OEP-Animal-Tracks.png
END:VEVENT
END:VCALENDAR