BEGIN:VCALENDAR
VERSION:2.0
PRODID:-//Santa Cruz Museum of Natural History - ECPv6.15.20//NONSGML v1.0//EN
CALSCALE:GREGORIAN
METHOD:PUBLISH
X-WR-CALNAME:Santa Cruz Museum of Natural History
X-ORIGINAL-URL:https://santacruzmuseum.org
X-WR-CALDESC:Events for Santa Cruz Museum of Natural History
REFRESH-INTERVAL;VALUE=DURATION:PT1H
X-Robots-Tag:noindex
X-PUBLISHED-TTL:PT1H
BEGIN:VTIMEZONE
TZID:America/Los_Angeles
BEGIN:DAYLIGHT
TZOFFSETFROM:-0800
TZOFFSETTO:-0700
TZNAME:PDT
DTSTART:20250309T100000
END:DAYLIGHT
BEGIN:STANDARD
TZOFFSETFROM:-0700
TZOFFSETTO:-0800
TZNAME:PST
DTSTART:20251102T090000
END:STANDARD
BEGIN:DAYLIGHT
TZOFFSETFROM:-0800
TZOFFSETTO:-0700
TZNAME:PDT
DTSTART:20260308T100000
END:DAYLIGHT
BEGIN:STANDARD
TZOFFSETFROM:-0700
TZOFFSETTO:-0800
TZNAME:PST
DTSTART:20261101T090000
END:STANDARD
BEGIN:DAYLIGHT
TZOFFSETFROM:-0800
TZOFFSETTO:-0700
TZNAME:PDT
DTSTART:20270314T100000
END:DAYLIGHT
BEGIN:STANDARD
TZOFFSETFROM:-0700
TZOFFSETTO:-0800
TZNAME:PST
DTSTART:20271107T090000
END:STANDARD
END:VTIMEZONE
BEGIN:VEVENT
DTSTART;TZID=America/Los_Angeles:20260531T140000
DTEND;TZID=America/Los_Angeles:20260531T160000
DTSTAMP:20260421T055115
CREATED:20260420T234946Z
LAST-MODIFIED:20260420T234946Z
UID:10000490-1780236000-1780243200@santacruzmuseum.org
SUMMARY:Birding and Nature Journaling
DESCRIPTION:Join author Sophie Wood Brinker and Santa Cruz Museum of Natural History educator Jenny Rieke for an afternoon of birding and nature journaling at Neary Lagoon. We’ll explore the lagoon’s rich habitat together\, then settle in to sketch and observe what we find. Art supplies are provided — no experience necessary. This event celebrates the launch of The Birds of Santa Cruz\, published by Heyday Books. All skill levels welcome. \n$35 – General\n$5 Off – Museum Members\nREGISTER\nAbout the Speaker\nSophie Wood Brinker (she/her) is a science illustrator who works with paint and pencil to communicate the brilliance and intricacy of the ecosystems that surround us. Her art scales from drawing the texture of butterfly wings to painting fifteen-foot protest banners. Sophie also works in a small town library\, helping spread library joy and community resources. As a Quaker\, Sophie grew up sitting in intergenerational circles hearing messages spoken out of silence. She has a BA in peace and global studies from Earlham College and is a graduate of the Science Illustration Program at California State University\, Monterey Bay. Sophie grew up in Santa Cruz\, California\, on unceded territory of the Awaswas-speaking Uypi Tribe\, and lives in Bolinas\, California\, on unceded Coast Miwok territory. www.sophiewoodbrinker.com \n  \nAccessibility and Logistics \n\nBring binoculars and sketchbooks if you have them!\nWe will meet at the California St. entrance to Neary Lagoon Park (110 California St.). There is a small parking lot and free 2-hour parking along California St. Bike racks and restrooms are available at the entrance.\nWe will walk ~1 mile on a generally flat pathway and floating boardwalk. The trail is ADA accessible and the only restroom access is at the trailhead.\nCome prepared with layers\, sunscreen\, water\, and snacks.
URL:https://santacruzmuseum.org/event/birding-and-nature-journaling/
LOCATION:Neary Lagoon\, 110 California St.\, Santa Cruz\, CA\, 95060\, United States
CATEGORIES:Nature Walk,The Art of Nature
ATTACH;FMTTYPE=image/png:https://santacruzmuseum.org/wp-content/uploads/2026/04/birding.png
END:VEVENT
END:VCALENDAR