BEGIN:VCALENDAR
VERSION:2.0
PRODID:-//Santa Cruz Museum of Natural History - ECPv6.15.20//NONSGML v1.0//EN
CALSCALE:GREGORIAN
METHOD:PUBLISH
X-WR-CALNAME:Santa Cruz Museum of Natural History
X-ORIGINAL-URL:https://santacruzmuseum.org
X-WR-CALDESC:Events for Santa Cruz Museum of Natural History
REFRESH-INTERVAL;VALUE=DURATION:PT1H
X-Robots-Tag:noindex
X-PUBLISHED-TTL:PT1H
BEGIN:VTIMEZONE
TZID:America/Los_Angeles
BEGIN:DAYLIGHT
TZOFFSETFROM:-0800
TZOFFSETTO:-0700
TZNAME:PDT
DTSTART:20250309T100000
END:DAYLIGHT
BEGIN:STANDARD
TZOFFSETFROM:-0700
TZOFFSETTO:-0800
TZNAME:PST
DTSTART:20251102T090000
END:STANDARD
BEGIN:DAYLIGHT
TZOFFSETFROM:-0800
TZOFFSETTO:-0700
TZNAME:PDT
DTSTART:20260308T100000
END:DAYLIGHT
BEGIN:STANDARD
TZOFFSETFROM:-0700
TZOFFSETTO:-0800
TZNAME:PST
DTSTART:20261101T090000
END:STANDARD
BEGIN:DAYLIGHT
TZOFFSETFROM:-0800
TZOFFSETTO:-0700
TZNAME:PDT
DTSTART:20270314T100000
END:DAYLIGHT
BEGIN:STANDARD
TZOFFSETFROM:-0700
TZOFFSETTO:-0800
TZNAME:PST
DTSTART:20271107T090000
END:STANDARD
END:VTIMEZONE
BEGIN:VEVENT
DTSTART;TZID=America/Los_Angeles:20260513T180000
DTEND;TZID=America/Los_Angeles:20260513T200000
DTSTAMP:20260423T123416
CREATED:20260423T175942Z
LAST-MODIFIED:20260423T175942Z
UID:10000552-1778695200-1778702400@santacruzmuseum.org
SUMMARY:Sip & Paint: Illustrating Fish
DESCRIPTION:Join us at the Museum for a creative evening with Art of Nature artist Calene Luzco Fletcher in this sip and paint style workshop focused on fish illustration! \nWe’ll begin with a short overview of fish and how they have been represented in scientific guidebooks\, with a look at the role illustration plays in documenting aquatic life. From there\, we’ll explore basic fish external anatomy to support accurate and confident drawing. \nParticipants will sketch their own fish studies from observation. Calene will lead instruction in watercolor techniques\, demonstrating how to add color\, texture\, and depth to your drawings. \nThis workshop is suitable for all experience levels\, whether you are new to drawing or looking to practice your watercolor skills in a guided setting. \nAll materials will be provided. Participants are also welcome to bring their own sketchbooks\, journals\, or watercolor supplies if they prefer. \nREGISTER HERE\nCapacity: 20\nTicket Price: $40\nDiscounts: $5 Member discount\nAge limit: 12+\nLocation: Santa Cruz Museum of Natural History  \n 
URL:https://santacruzmuseum.org/event/sip-paint-illustrating-fish/
LOCATION:Santa Cruz Museum of Natural History\, 1305 East Cliff Drive\, Santa Cruz\, CA\, 95062\, United States
ATTACH;FMTTYPE=image/png:https://santacruzmuseum.org/wp-content/uploads/2026/04/1600x900-Website-Event-Images-13.png
END:VEVENT
END:VCALENDAR