BEGIN:VCALENDAR
VERSION:2.0
PRODID:-//Santa Cruz Museum of Natural History - ECPv6.15.20//NONSGML v1.0//EN
CALSCALE:GREGORIAN
METHOD:PUBLISH
X-ORIGINAL-URL:https://santacruzmuseum.org
X-WR-CALDESC:Events for Santa Cruz Museum of Natural History
REFRESH-INTERVAL;VALUE=DURATION:PT1H
X-Robots-Tag:noindex
X-PUBLISHED-TTL:PT1H
BEGIN:VTIMEZONE
TZID:America/Los_Angeles
BEGIN:DAYLIGHT
TZOFFSETFROM:-0800
TZOFFSETTO:-0700
TZNAME:PDT
DTSTART:20250309T100000
END:DAYLIGHT
BEGIN:STANDARD
TZOFFSETFROM:-0700
TZOFFSETTO:-0800
TZNAME:PST
DTSTART:20251102T090000
END:STANDARD
BEGIN:DAYLIGHT
TZOFFSETFROM:-0800
TZOFFSETTO:-0700
TZNAME:PDT
DTSTART:20260308T100000
END:DAYLIGHT
BEGIN:STANDARD
TZOFFSETFROM:-0700
TZOFFSETTO:-0800
TZNAME:PST
DTSTART:20261101T090000
END:STANDARD
BEGIN:DAYLIGHT
TZOFFSETFROM:-0800
TZOFFSETTO:-0700
TZNAME:PDT
DTSTART:20270314T100000
END:DAYLIGHT
BEGIN:STANDARD
TZOFFSETFROM:-0700
TZOFFSETTO:-0800
TZNAME:PST
DTSTART:20271107T090000
END:STANDARD
END:VTIMEZONE
BEGIN:VEVENT
DTSTART;TZID=America/Los_Angeles:20260501T170000
DTEND;TZID=America/Los_Angeles:20260501T200000
DTSTAMP:20260421T060538
CREATED:20260409T060603Z
LAST-MODIFIED:20260420T192528Z
UID:10000481-1777654800-1777665600@santacruzmuseum.org
SUMMARY:Fauna First Friday
DESCRIPTION:Celebrate First Friday this May with a special fauna-themed evening honoring our Art of Nature exhibit. \nExplore artwork inspired by the animals of our region\, from coast to redwoods\, and connect with local artists and community partners bringing these stories to life. Enjoy hands-on activities\, live demonstrations\, and fresh perspectives on the creatures that shape our local ecosystems. \nOur doors are open all day for a free drop-in experience\, with evening festivities from 5–8 p.m. featuring food and an open bar. \nParticipating artists and community partners include: \n\nCalene Luczo Fletcher\nCin Liang\nKara Mohr\nMaria Amorette Klos\nTony Cockrell\nBrynna Reilly-Andrews\nMari Stauffer Howard\nSanta Cruz Bird Club\nCT English Climate Justice Club\nAreperia 831
URL:https://santacruzmuseum.org/event/fauna-first-friday/
LOCATION:Santa Cruz Museum of Natural History\, 1305 East Cliff Drive\, Santa Cruz\, CA\, 95062\, United States
CATEGORIES:First Friday,The Art of Nature
ATTACH;FMTTYPE=image/png:https://santacruzmuseum.org/wp-content/uploads/2025/12/1600x900-Website-Event-Images-10.png
END:VEVENT
END:VCALENDAR