BEGIN:VCALENDAR
VERSION:2.0
PRODID:-//Santa Cruz Museum of Natural History - ECPv6.15.20//NONSGML v1.0//EN
CALSCALE:GREGORIAN
METHOD:PUBLISH
X-WR-CALNAME:Santa Cruz Museum of Natural History
X-ORIGINAL-URL:https://santacruzmuseum.org
X-WR-CALDESC:Events for Santa Cruz Museum of Natural History
REFRESH-INTERVAL;VALUE=DURATION:PT1H
X-Robots-Tag:noindex
X-PUBLISHED-TTL:PT1H
BEGIN:VTIMEZONE
TZID:UTC
BEGIN:STANDARD
TZOFFSETFROM:+0000
TZOFFSETTO:+0000
TZNAME:UTC
DTSTART:20240101T000000
END:STANDARD
END:VTIMEZONE
BEGIN:VEVENT
DTSTART;TZID=UTC:20250405T100000
DTEND;TZID=UTC:20250405T120000
DTSTAMP:20260423T061813
CREATED:20250315T012953Z
LAST-MODIFIED:20250315T013643Z
UID:10000076-1743847200-1743854400@santacruzmuseum.org
SUMMARY:Member Meetup: West Cliff Geology Walk
DESCRIPTION:Don’t miss this special Member-only opportunity for a private guided tour of the geologic wonders of Santa Cruz. Led by geological experts from the University of California Santa Cruz\, go back in time to discover fossils\, rare minerals\, and learn the history\, and stories\, of what makes West Cliff such a rockin’ place!\nInstructor: Geologist Jessica Gagliardi – UCSC Geology Department\nTour Size: 20 Participants\nTour Fee: Free for Museum Members. Must be a Museum Member.\nAges: Open to ages 10+\, youth under 14 must be accompanied by an adult. \nREGISTER\nWhat to Expect:  \n\nParticipants should be prepared to walk up to 3 miles on mostly paved terrain. \nThere will be a portion where we will go down a rough dirt path to get to a wavecut platform with tide pools.\nWear good walking shoes — no flip flops.\nExact location details will be shared upon registration.\nSpace is limited. Please only register if you intend to come.
URL:https://santacruzmuseum.org/event/member-meetup-west-cliff-geology-walk/
LOCATION:West Cliff Drive\, West Cliff Drive\, Santa Cruz\, CA\, 95060\, United States
CATEGORIES:Members Only,Nature Walk
ATTACH;FMTTYPE=image/jpeg:https://santacruzmuseum.org/wp-content/uploads/2025/03/West-Cliff-Geology-scaled-e1608140828348-2048x1152-1.jpg
END:VEVENT
BEGIN:VEVENT
DTSTART;TZID=UTC:20250404T170000
DTEND;TZID=UTC:20250404T200000
DTSTAMP:20260423T061813
CREATED:20250311T065824Z
LAST-MODIFIED:20250314T061246Z
UID:10000073-1743786000-1743796800@santacruzmuseum.org
SUMMARY:First Friday: The Art of Nature
DESCRIPTION:Get to know Santa Cruz’s WILD SIDE at the Museum of Natural History! Nerd out on your night out during monthly after-hours events\, featuring rotating themes\, vendors\, and activities. FREE admission to the Museum all day 11 a.m. to 8 p.m.\, with special festivities from 5 – 8 p.m.\nJust like mixing a palette\, we are blending art with science at April’s First Friday. To celebrate the 36th year of the Museum’s Art of Nature scientific illustration exhibition\, we are inviting you to a special after-hours event to meet the local artists who are expressing the distinctiveness of Santa Cruz’s wildlife on canvas. In this year’s exhibit\, you will be moved by masterpieces from 46 artists\, in a wide array of artistic media\, as well as having the opportunity to connect with the artists’ other works at their gardenside booths. \nIn addition to the exhibit\, you will engage with California State University Monterey Bay’s Science Illustration Program\, from where many of the featured artists graduated\, explore items from the artists in the Museum’s Gift Shop\, learn about this month’s art workshops and lectures\, enjoy an open bar\, food trucks\, and much more. You won’t want to BRUSH off this First Friday! \n\nCommunity Partners\n\n\n\nCalifornia State University Monterey Bay’s Science Illustration Program\nEl Pajaro Valley Incubator Kitchen\nFeatured artists from The Art of Nature exhibit\n\nAccessibility\n\n Drop by anytime 5-8 p.m. to join the festivities!\nAdmission to the Museum is free all day from 11 a.m. to 8 p.m.\nFollow the latest guidelines for health and safety.\nRestrooms and water fountains are available inside the Museum.\nBooths and activities will be both indoors and outdoors.
URL:https://santacruzmuseum.org/event/first-friday-the-art-of-nature/
LOCATION:Santa Cruz Museum of Natural History\, 1305 East Cliff Drive\, Santa Cruz\, CA\, 95062\, United States
CATEGORIES:First Friday,The Art of Nature
ATTACH;FMTTYPE=image/png:https://santacruzmuseum.org/wp-content/uploads/2025/03/1600x900-Event-Images.png
END:VEVENT
BEGIN:VEVENT
DTSTART;TZID=UTC:20250329T100000
DTEND;TZID=UTC:20250329T120000
DTSTAMP:20260423T061813
CREATED:20250311T063937Z
LAST-MODIFIED:20250311T064110Z
UID:10000072-1743242400-1743249600@santacruzmuseum.org
SUMMARY:Horticulture Workshop: Living Springtime Wreath
DESCRIPTION:Let’s get festive with native flowers\, succulents\, and air plants!\nCelebrate Springtime and the wonder of wildflowers by crafting a living botanical wreath. This course will satisfy both plant and art lovers alike; learn the science of epiphytes while you design and mount native flowers\, succulents\, and air plants. Create a masterpiece for your seasonal decor or a treasured gift for a friend or family member\, all wrapped up in a fun activity that brings the beauty of the outside\, inside. \nGardening gloves recommended. You will be working with live plants\, wire\, and gardening tools. Feel free to also bring hand pruners and/or safety glasses. \nNo prior experience required. Participants will have a completed piece to take home at the conclusion of the workshop. Open to ages 16+/all experience levels. All supplies included. \nREGISTER\nMaterials Fee: All supplies are included in class fee. Participants are welcome to bring their own gardening supplies. \nClass Fee: $39 – Museum Members receive a special discounted price applied at checkout. \nInstructor: Dion Shattuck – SCMNH Horticulturalist \n  \nWhat to Expect\n\nThis class takes place outside\, so please dress appropriately for the weather.\nSupplies may get messy\, so casual attire is recommended.
URL:https://santacruzmuseum.org/event/horticulture-workshop-living-springtime-wreath/
LOCATION:Santa Cruz Museum of Natural History\, 1305 East Cliff Drive\, Santa Cruz\, CA\, 95062\, United States
CATEGORIES:Workshop
ATTACH;FMTTYPE=image/png:https://santacruzmuseum.org/wp-content/uploads/2025/03/169-Event-Images.png
END:VEVENT
BEGIN:VEVENT
DTSTART;TZID=UTC:20250326T180000
DTEND;TZID=UTC:20250326T200000
DTSTAMP:20260423T061813
CREATED:20250311T054936Z
LAST-MODIFIED:20250311T062032Z
UID:10000071-1743012000-1743019200@santacruzmuseum.org
SUMMARY:Plein Air in Plain Sight – The Legacy of Santa Cruz Nature Painting
DESCRIPTION:Santa Cruz has been an outdoor painting hotspot since the 1890’s\, well-known across the nation as a destination for exploring art while surrounded by nature. In fact\, the Seabright Community in particular has been an artistic hub for plein air painters for over a hundred years and continues to have a robust presence even today. \nJoin Kathleen Aston\, the Museum’s Collections Manager\, as she opens the vault to spotlight rare art from the Museum’s historic archives and Taylor Seamount\, a local plein air artist trailblazing the contemporary nature painting movement. You won’t want to miss experiencing this living timeline of Santa Cruz’s art scene. \nLight refreshments will be served prior to the start of the program. \nClass Fee: $11 – Museum Members receive a special discounted price applied at checkout. \nInstructors: Kathleen Aston\, Collections Manager at the Santa Cruz Museum of Natural History\, & Taylor Seamount\, local artist/activist/instructor \nREGISTER
URL:https://santacruzmuseum.org/event/plein-air-in-plain-sight-the-legacy-of-santa-cruz-nature-painting/
LOCATION:Santa Cruz Museum of Natural History\, 1305 East Cliff Drive\, Santa Cruz\, CA\, 95062\, United States
CATEGORIES:Lecture
ATTACH;FMTTYPE=image/jpeg:https://santacruzmuseum.org/wp-content/uploads/2025/03/CA-SantaCruzMuseumofNaturalHistory-09282024-04007-scaled.jpg
END:VEVENT
BEGIN:VEVENT
DTSTART;TZID=UTC:20250322T090000
DTEND;TZID=UTC:20250322T120000
DTSTAMP:20260423T061813
CREATED:20250311T071658Z
LAST-MODIFIED:20250311T071658Z
UID:10000074-1742634000-1742644800@santacruzmuseum.org
SUMMARY:Behind-the-Scenes at a National Monument: A Cotoni-Coast Dairies Tour
DESCRIPTION:Don’t miss this special\, limited-time opportunity for a private guided tour of the Cotoni-Coast Dairies National Monument – before it’s even open to the public!\nGuided by land stewards and environmental scientists from the Bureau of Land Management\, learn what it took to designate a National Monument\, the history of the land\, and observe all the wildlife of the Cotoni-Coast Dairies. Participants will learn about the future of the property\, current restoration projects\, conservation efforts\, indigenous partnerships\, and all the steppes required to get to where we are today. \nREGISTER\nLocation: The property is currently closed to the general public. The address will only be disclosed to registered participants.\nTour Fee: $39 –Youth(14-18): $39 / Adult: $46 – Museum Members receive a special discounted price applied at checkout.\nInstructors: Lee Thompson\, Stephen Sheeter\, and Adam Wilde – Bureau of Land Management \nAccessibility\n\nExact meet-up location will be shared upon registration.\nTerrain is varied\, but not extreme. Expect a moderate hike\, at a leisurely pace.\nBinoculars and cameras are optional\, but recommended.\nThere are limited facilities at this location.\nWear layers\, comfortable shoes\, and bring adequate sun protection. Carrying water is highly recommended.\nPets must remain at home.
URL:https://santacruzmuseum.org/event/behind-the-scenes-at-a-national-monument-a-cotoni-coast-dairies-tour/
LOCATION:Cotoni Coast Dairies\, Davenport\, CA\, 95017
CATEGORIES:Nature Walk
ATTACH;FMTTYPE=image/png:https://santacruzmuseum.org/wp-content/uploads/2025/03/CCD-Walk.png
END:VEVENT
END:VCALENDAR