BEGIN:VCALENDAR
VERSION:2.0
PRODID:-//Santa Cruz Museum of Natural History - ECPv6.15.20//NONSGML v1.0//EN
CALSCALE:GREGORIAN
METHOD:PUBLISH
X-WR-CALNAME:Santa Cruz Museum of Natural History
X-ORIGINAL-URL:https://santacruzmuseum.org
X-WR-CALDESC:Events for Santa Cruz Museum of Natural History
REFRESH-INTERVAL;VALUE=DURATION:PT1H
X-Robots-Tag:noindex
X-PUBLISHED-TTL:PT1H
BEGIN:VTIMEZONE
TZID:America/Los_Angeles
BEGIN:DAYLIGHT
TZOFFSETFROM:-0800
TZOFFSETTO:-0700
TZNAME:PDT
DTSTART:20250309T100000
END:DAYLIGHT
BEGIN:STANDARD
TZOFFSETFROM:-0700
TZOFFSETTO:-0800
TZNAME:PST
DTSTART:20251102T090000
END:STANDARD
BEGIN:DAYLIGHT
TZOFFSETFROM:-0800
TZOFFSETTO:-0700
TZNAME:PDT
DTSTART:20260308T100000
END:DAYLIGHT
BEGIN:STANDARD
TZOFFSETFROM:-0700
TZOFFSETTO:-0800
TZNAME:PST
DTSTART:20261101T090000
END:STANDARD
BEGIN:DAYLIGHT
TZOFFSETFROM:-0800
TZOFFSETTO:-0700
TZNAME:PDT
DTSTART:20270314T100000
END:DAYLIGHT
BEGIN:STANDARD
TZOFFSETFROM:-0700
TZOFFSETTO:-0800
TZNAME:PST
DTSTART:20271107T090000
END:STANDARD
END:VTIMEZONE
BEGIN:VTIMEZONE
TZID:UTC
BEGIN:STANDARD
TZOFFSETFROM:+0000
TZOFFSETTO:+0000
TZNAME:UTC
DTSTART:20250101T000000
END:STANDARD
END:VTIMEZONE
BEGIN:VEVENT
DTSTART;TZID=America/Los_Angeles:20260424T130000
DTEND;TZID=America/Los_Angeles:20260424T150000
DTSTAMP:20260421T102659
CREATED:20260415T235416Z
LAST-MODIFIED:20260416T000240Z
UID:10000487-1777035600-1777042800@santacruzmuseum.org
SUMMARY:Mobile Museum at Watsonville Cabrillo College Campus
DESCRIPTION:Join us for a fun-filled day in the community! We’ll be at the Watsonville Cabrillo College campus for a family-friendly event featuring local organizations. The event will also coincide with the Farmers Market. \n¡Únete a nosotros para un día lleno de diversión en la comunidad! Estaremos en el campus de Cabrillo College en Watsonville para un evento familiar con la participación de organizaciones locales. El evento también coincidirá con el mercado de agricultores. \n________________________________________________________________________________________ \nThese programs are funded by the Outdoor Equity Grants Program\, created through AB 209 and administered by California State Parks\, Office of Grants and Local Services. \nEstos programas son financiados por el Programa de Subvenciones de Equidad al Aire Libre\, creado a través AB 209 y administrado por la Oficina de Subvenciones y Servicios Locales de Parque Estatales de California.
URL:https://santacruzmuseum.org/event/mobile-museum-at-watsonville-cabrillo-college-campus/
CATEGORIES:Mobile Museum,Vamos Afuera
ATTACH;FMTTYPE=image/jpeg:https://santacruzmuseum.org/wp-content/uploads/2025/09/1600x900-Website-Event-Images-4.jpg
END:VEVENT
BEGIN:VEVENT
DTSTART;TZID=UTC:20260509T110000
DTEND;TZID=UTC:20260509T150000
DTSTAMP:20260421T102659
CREATED:20260415T234805Z
LAST-MODIFIED:20260415T234805Z
UID:10000486-1778324400-1778338800@santacruzmuseum.org
SUMMARY:Mobile Museum at Watsonville Youth Con
DESCRIPTION:Come find us at Marinovich Park\, Watsonville! Join the Environmental Science Workshop while engaging in educational activities for all ages. Make sure to stop by and visit the Museum’s table. \n¡Ven a encontrarnos en Marinovich Park\, Watsonville! Únase al taller de Ciencias Ambientales mientras participas en actividades educativas para todas las edades. No olvide pasar a visitar la mesa del museo. \n________________________________________________________________________________________________ \nThe event will be outdoors.  \nThese programs are funded by the Outdoor Equity Grants Program\, created through AB 209 and administered by California State Parks\, Office of Grants and Local Services. \nEstos programas son financiados por el Programa de Subvenciones de Equidad al Aire Libre\, creado a través AB 209 y administrado por la Oficina de Subvenciones y Servicios Locales de Parque Estatales de California.
URL:https://santacruzmuseum.org/event/mobile-museum-at-watsonville-youth-con/
LOCATION:Environmental Science Workshop\, 120 2nd St.\, Watsonville\, CA\, 95076\, United States
CATEGORIES:Mobile Museum,Vamos Afuera
ATTACH;FMTTYPE=image/jpeg:https://santacruzmuseum.org/wp-content/uploads/2025/03/DSC_0108-scaled-e1743377056991.jpg
END:VEVENT
END:VCALENDAR