BEGIN:VCALENDAR
VERSION:2.0
PRODID:-//Santa Cruz Museum of Natural History - ECPv6.15.20//NONSGML v1.0//EN
CALSCALE:GREGORIAN
METHOD:PUBLISH
X-WR-CALNAME:Santa Cruz Museum of Natural History
X-ORIGINAL-URL:https://santacruzmuseum.org
X-WR-CALDESC:Events for Santa Cruz Museum of Natural History
REFRESH-INTERVAL;VALUE=DURATION:PT1H
X-Robots-Tag:noindex
X-PUBLISHED-TTL:PT1H
BEGIN:VTIMEZONE
TZID:America/Los_Angeles
BEGIN:DAYLIGHT
TZOFFSETFROM:-0800
TZOFFSETTO:-0700
TZNAME:PDT
DTSTART:20240310T100000
END:DAYLIGHT
BEGIN:STANDARD
TZOFFSETFROM:-0700
TZOFFSETTO:-0800
TZNAME:PST
DTSTART:20241103T090000
END:STANDARD
BEGIN:DAYLIGHT
TZOFFSETFROM:-0800
TZOFFSETTO:-0700
TZNAME:PDT
DTSTART:20250309T100000
END:DAYLIGHT
BEGIN:STANDARD
TZOFFSETFROM:-0700
TZOFFSETTO:-0800
TZNAME:PST
DTSTART:20251102T090000
END:STANDARD
BEGIN:DAYLIGHT
TZOFFSETFROM:-0800
TZOFFSETTO:-0700
TZNAME:PDT
DTSTART:20260308T100000
END:DAYLIGHT
BEGIN:STANDARD
TZOFFSETFROM:-0700
TZOFFSETTO:-0800
TZNAME:PST
DTSTART:20261101T090000
END:STANDARD
BEGIN:DAYLIGHT
TZOFFSETFROM:-0800
TZOFFSETTO:-0700
TZNAME:PDT
DTSTART:20270314T100000
END:DAYLIGHT
BEGIN:STANDARD
TZOFFSETFROM:-0700
TZOFFSETTO:-0800
TZNAME:PST
DTSTART:20271107T090000
END:STANDARD
END:VTIMEZONE
BEGIN:VTIMEZONE
TZID:UTC
BEGIN:STANDARD
TZOFFSETFROM:+0000
TZOFFSETTO:+0000
TZNAME:UTC
DTSTART:20240101T000000
END:STANDARD
END:VTIMEZONE
BEGIN:VEVENT
DTSTART;TZID=America/Los_Angeles:20260424T130000
DTEND;TZID=America/Los_Angeles:20260424T150000
DTSTAMP:20260425T042615
CREATED:20260415T235416Z
LAST-MODIFIED:20260416T000240Z
UID:10000487-1777035600-1777042800@santacruzmuseum.org
SUMMARY:Mobile Museum at Watsonville Cabrillo College Campus
DESCRIPTION:Join us for a fun-filled day in the community! We’ll be at the Watsonville Cabrillo College campus for a family-friendly event featuring local organizations. The event will also coincide with the Farmers Market. \n¡Únete a nosotros para un día lleno de diversión en la comunidad! Estaremos en el campus de Cabrillo College en Watsonville para un evento familiar con la participación de organizaciones locales. El evento también coincidirá con el mercado de agricultores. \n________________________________________________________________________________________ \nThese programs are funded by the Outdoor Equity Grants Program\, created through AB 209 and administered by California State Parks\, Office of Grants and Local Services. \nEstos programas son financiados por el Programa de Subvenciones de Equidad al Aire Libre\, creado a través AB 209 y administrado por la Oficina de Subvenciones y Servicios Locales de Parque Estatales de California.
URL:https://santacruzmuseum.org/event/mobile-museum-at-watsonville-cabrillo-college-campus/
CATEGORIES:Mobile Museum,Vamos Afuera
ATTACH;FMTTYPE=image/jpeg:https://santacruzmuseum.org/wp-content/uploads/2025/09/1600x900-Website-Event-Images-4.jpg
END:VEVENT
BEGIN:VEVENT
DTSTART;TZID=UTC:20260418T113000
DTEND;TZID=UTC:20260418T160000
DTSTAMP:20260425T042615
CREATED:20260219T182820Z
LAST-MODIFIED:20260219T182820Z
UID:10000451-1776511800-1776528000@santacruzmuseum.org
SUMMARY:Find Us At: Earth Day Santa Cruz
DESCRIPTION:Find the Santa Cruz Museum of Natural History at Earth Day Santa Cruz! We’ll be hosting a nature-inspired art activity. \nEarth Day Santa Cruz is an annual event bringing our community together to promote environmental stewardship\, healthy living\, and sustainability. Together with local businesses\, schools\, and community organizations\, we engage our citizens through education\, hands-on learning\, and inspirational activities\, and place a special emphasis on youth participation. We strive to celebrate the importance of protecting our Earth’s resources and to collaborate on empowering the environmental movement in Santa Cruz County and beyond.
URL:https://santacruzmuseum.org/event/find-us-at-earth-day-santa-cruz/
LOCATION:Downtown Santa Cruz\, Pacific Ave.\, Santa Cruz\, CA\, 95060\, United States
CATEGORIES:Mobile Museum
ATTACH;FMTTYPE=image/png:https://santacruzmuseum.org/wp-content/uploads/2025/04/Earth-Day_Slide-2-940x400-1.png
END:VEVENT
BEGIN:VEVENT
DTSTART;TZID=America/Los_Angeles:20260404T130000
DTEND;TZID=America/Los_Angeles:20260404T160000
DTSTAMP:20260425T042615
CREATED:20260219T182214Z
LAST-MODIFIED:20260219T182214Z
UID:10000450-1775307600-1775318400@santacruzmuseum.org
SUMMARY:Mobile Museum: Watsonville Egg Hunt Eggstravaganza
DESCRIPTION:Join us for a fun-filled day in the community! We’ll be at the Watsonville Egg Hunt Eggstravaganza\, a family-friendly event featuring arts and crafts\, games\, food trucks\, an egg hunt\, and more! \n¡Acompáñenos para un día lleno de diversión en la comunidad! Estaremos en el Watsonville Egg Hunt Eggstravaganza\, un evento familiar con artes y manualidades\, juegos\, camiones de comida\, búsqueda de huevos y mucho más. \n________________________________________________________________________________________ \nThese programs are funded by the Outdoor Equity Grants Program\, created through AB 209 and administered by California State Parks\, Office of Grants and Local Services. \nEstos programas son financiados por el Programa de Subvenciones de Equidad al Aire Libre\, creado a través AB 209 y administrado por la Oficina de Subvenciones y Servicios Locales de Parque Estatales de California.
URL:https://santacruzmuseum.org/event/mobile-museum-watsonville-egg-hunt-eggstravaganza/
LOCATION:Franich Park\, 795 Vista Montana Drive\, Watsonville\, 95076\, United States
CATEGORIES:Mobile Museum,Vamos Afuera
ATTACH;FMTTYPE=image/jpeg:https://santacruzmuseum.org/wp-content/uploads/2025/03/HecoxGuide_eggtray_option1-scaled.jpg
END:VEVENT
BEGIN:VEVENT
DTSTART;TZID=America/Los_Angeles:20260328T110000
DTEND;TZID=America/Los_Angeles:20260328T150000
DTSTAMP:20260425T042615
CREATED:20260219T192215Z
LAST-MODIFIED:20260219T192234Z
UID:10000453-1774695600-1774710000@santacruzmuseum.org
SUMMARY:Mobile Museum at the Santa Cruz County STEAM Expo
DESCRIPTION:View our herpetology education collection while visiting the STEAM Expo Fair! Families will have an opportunity to view and interact with the herpetology collection from the Santa Cruz Museum of Natural History. Herpetology is a branch of zoology that studies reptiles and amphibians. \n  \nExhibitions at the Santa Cruz County STEAM Expo include demonstrations\, interactive activities\, visual and performing arts from educators\, students and community partners throughout the county\, parks\, museums\, and businesses that support or encourage STEAM activities.
URL:https://santacruzmuseum.org/event/mobile-museum-at-the-santa-cruz-county-steam-expo/
LOCATION:Santa Cruz County Fairgrounds
CATEGORIES:Mobile Museum
ATTACH;FMTTYPE=image/png:https://santacruzmuseum.org/wp-content/uploads/2026/02/Screenshot-2026-02-19-111407.png
END:VEVENT
BEGIN:VEVENT
DTSTART;TZID=America/Los_Angeles:20260225T173000
DTEND;TZID=America/Los_Angeles:20260225T193000
DTSTAMP:20260425T042615
CREATED:20260206T181755Z
LAST-MODIFIED:20260206T181755Z
UID:10000445-1772040600-1772047800@santacruzmuseum.org
SUMMARY:Mobile Museum at Landmark Elementary School
DESCRIPTION:Visit us at Landmark Elementary School for a fun evening filled with hands-on science activities for students and families to explore together! \n¡Visítenos en la Escuela Primaria Landmark para disfrutar de una noche divertida llena de actividades científicas para que estudiantes y familias exploren juntos! \n______________________________________________________________________________________ \nThese programs are funded by the Outdoor Equity Grants Program\, created through AB 209 and administered by California State Parks\, Office of Grants and Local Services. \nEstos programas son financiados por el Programa de Subvenciones de Equidad al Aire Libre\, creado a través AB 209 y administrado por la Oficina de Subvenciones y Servicios Locales de Parque Estatales de California.
URL:https://santacruzmuseum.org/event/mobile-museum-at-landmark-elementary-school/
LOCATION:Landmark Elementary School\, 235 Ohlone Pkwy\, Watsonville\, 95076\, United States
CATEGORIES:Mobile Museum,Vamos Afuera
ATTACH;FMTTYPE=image/jpeg:https://santacruzmuseum.org/wp-content/uploads/2026/02/2025FungusFair_7-scaled.jpeg
END:VEVENT
BEGIN:VEVENT
DTSTART;TZID=America/Los_Angeles:20260221T110000
DTEND;TZID=America/Los_Angeles:20260221T133000
DTSTAMP:20260425T042615
CREATED:20260219T180520Z
LAST-MODIFIED:20260219T180520Z
UID:10000449-1771671600-1771680600@santacruzmuseum.org
SUMMARY:Mobile Museum at Bay View Elementary School: Fiesta de las Artes
DESCRIPTION:Join us for a fun day filled with art activities at Bay View Elementary School for Fiesta de las Artes! \nBe sure to stop by the Museum’s table to have some fun with nature themed arts and crafts.
URL:https://santacruzmuseum.org/event/mobile-museum-at-bay-view-elementary-school-fiesta-de-las-artes/
LOCATION:Bay View Elementary\, 1231 Bay St\, Santa Cruz\, 95060\, United States
CATEGORIES:Mobile Museum
ATTACH;FMTTYPE=image/png:https://santacruzmuseum.org/wp-content/uploads/2026/02/Screenshot-2026-02-19-100126.png
END:VEVENT
BEGIN:VEVENT
DTSTART;TZID=UTC:20260214T110000
DTEND;TZID=UTC:20260214T153000
DTSTAMP:20260425T042615
CREATED:20260123T004800Z
LAST-MODIFIED:20260123T004800Z
UID:10000434-1771066800-1771083000@santacruzmuseum.org
SUMMARY:Mobile Museum at the Migration Festival
DESCRIPTION:Have you noticed different species in Santa Cruz in different seasons? From monarchs to birds to whales\, the wildlife of our region is ever-changing as migrating animals move through or come to stay for a season. Head on over to Natural Bridges today to enjoy the Annual Migration Festival from 11am-3:30pm to learn more about these important rhythms of nature. Be sure to stop by the Museum’s table!
URL:https://santacruzmuseum.org/event/mobile-museum-at-the-migration-festival/
LOCATION:Natural Bridges State Beach\, 2531 W Cliff Drive\, Santa Cruz\, CA\, 95060\, United States
CATEGORIES:Mobile Museum
ATTACH;FMTTYPE=image/jpeg:https://santacruzmuseum.org/wp-content/uploads/2026/01/Elephant-Seals-Ano-Nuevo-February-13-2024_7275-scaled.jpg
END:VEVENT
BEGIN:VEVENT
DTSTART;TZID=UTC:20260207T110000
DTEND;TZID=UTC:20260207T130000
DTSTAMP:20260425T042615
CREATED:20260123T234306Z
LAST-MODIFIED:20260415T234523Z
UID:10000435-1770462000-1770469200@santacruzmuseum.org
SUMMARY:Mobile Museum at World Wetlands Day
DESCRIPTION:Come find us at Hope Park\, Watsonville! Celebrate World Wetlands Day with hands-on habitat restoration\, live music\, and fun\, educational activities for all ages. \n¡Ven a encontrarnos en Hope Park\, Watsonville! Celebra el Día Mundial de los Humedales con restauración de hábitat\, música en vivo y actividades divertidas y educativas para todas las edades. \n________________________________________________________________________________________________ \nThe event will be outdoors.  \nThese programs are funded by the Outdoor Equity Grants Program\, created through AB 209 and administered by California State Parks\, Office of Grants and Local Services. \nEstos programas son financiados por el Programa de Subvenciones de Equidad al Aire Libre\, creado a través AB 209 y administrado por la Oficina de Subvenciones y Servicios Locales de Parque Estatales de California.
URL:https://santacruzmuseum.org/event/mobile-museum-at-world-wetlands-day/
LOCATION:Hope Park\, 76 Hope Dr\, Watsonville\, CA\, 95076\, United States
CATEGORIES:Mobile Museum,Vamos Afuera
ATTACH;FMTTYPE=image/png:https://santacruzmuseum.org/wp-content/uploads/2025/02/Wetland-Walk-1.png
END:VEVENT
BEGIN:VEVENT
DTSTART;TZID=UTC:20260124T110000
DTEND;TZID=UTC:20260124T140000
DTSTAMP:20260425T042615
CREATED:20260122T232427Z
LAST-MODIFIED:20260122T232427Z
UID:10000433-1769252400-1769263200@santacruzmuseum.org
SUMMARY:Mobile Museum at Patagonia
DESCRIPTION:Come find us at Patagonia Outlet Santa Cruz! We will be sharing one of our Mobile Museum’s designed to inspire you to connect with the natural world through hands-on observation. We invite people of all ages to explore\, ask questions\, and engage directly with specimens through touch and close study.
URL:https://santacruzmuseum.org/event/mobile-museum-at-patagonia/
LOCATION:Patagonia Outlet Santa Cruz\, 415 River St Ste C\, Santa Cruz\, 95060\, United States
CATEGORIES:Mobile Museum
ATTACH;FMTTYPE=image/png:https://santacruzmuseum.org/wp-content/uploads/2025/04/OEP-ocean-mobile-museum.png
END:VEVENT
BEGIN:VEVENT
DTSTART;TZID=UTC:20251106T163000
DTEND;TZID=UTC:20251106T180000
DTSTAMP:20260425T042615
CREATED:20251001T172101Z
LAST-MODIFIED:20251001T172406Z
UID:10000281-1762446600-1762452000@santacruzmuseum.org
SUMMARY:Mobile Museum: Herpetology
DESCRIPTION:Families will have an opportunity to view and interact with the herpetology collection from the Santa Cruz Museum of Natural History. Herpetology is a branch of zoology that studies reptiles and amphibians. The exhibit includes snake specimens in jars\, snake skins\, sea turtle carapace\, and even a live rosy boa named Dolores! \nLas familias tendrán la oportunidad de ver e interactuar con la colección de herpetología del Museo de Historia Natural de Santa Cruz. La herpetología es una rama de la zoología que estudia reptiles y anfibios. La exhibición incluye especímenes de serpientes en frascos\, pieles de serpiente\, caparazones de tortugas marinas\, e incluso una boa rosada viva llamada Dolores. \n  \n\nThese programs are funded by the Outdoor Equity Grants Program\, created through AB 209 and administered by California State Parks\, Office of Grants and Local Services. \nEstos programas son financiados por el Programa de Subvenciones de Equidad al Aire Libre\, creado a través AB 209 y administrado por la Oficina de Subvenciones y Servicios Locales de Parque Estatales de California.
URL:https://santacruzmuseum.org/event/mobile-museum-herpetology-copy/
LOCATION:Watsonville Public Library\, 275 Main St STE 100\, Watsonville\, CA\, 95076\, United States
CATEGORIES:Mobile Museum,Vamos Afuera
ATTACH;FMTTYPE=image/png:https://santacruzmuseum.org/wp-content/uploads/2025/06/mobile-museum-herpetology.png
END:VEVENT
BEGIN:VEVENT
DTSTART;TZID=America/Los_Angeles:20251010T143000
DTEND;TZID=America/Los_Angeles:20251010T161500
DTSTAMP:20260425T042615
CREATED:20251001T171725Z
LAST-MODIFIED:20251001T172149Z
UID:10000280-1760106600-1760112900@santacruzmuseum.org
SUMMARY:Mobile Museum: Teeth
DESCRIPTION:Come enjoy our collection of natural history. Learn about local mammals and their dentition. \n¡Venga a disfrutar de nuestra colección de historia natural. Aprenda sobre los mamíferos locales y su dentición. \n  \n\nThese programs are funded by the Outdoor Equity Grants Program\, created through AB 209 and administered by California State Parks\, Office of Grants and Local Services. \nEstos programas son financiados por el Programa de Subvenciones de Equidad al Aire Libre\, creado a través AB 209 y administrado por la Oficina de Subvenciones y Servicios Locales de Parque Estatales de California.
URL:https://santacruzmuseum.org/event/mobile-museum-at-watsonville-public-library-copy/
LOCATION:Watsonville Public Library\, 275 Main St STE 100\, Watsonville\, CA\, 95076\, United States
CATEGORIES:Mobile Museum,Vamos Afuera
ATTACH;FMTTYPE=image/png:https://santacruzmuseum.org/wp-content/uploads/2025/04/Website-1890x1340-1.png
END:VEVENT
BEGIN:VEVENT
DTSTART;TZID=America/Los_Angeles:20250930T163000
DTEND;TZID=America/Los_Angeles:20250930T180000
DTSTAMP:20260425T042615
CREATED:20251001T001431Z
LAST-MODIFIED:20251001T001431Z
UID:10000279-1759249800-1759255200@santacruzmuseum.org
SUMMARY:Mobile Museum - Reptiles and Amphibians / Museo móvil - reptiles y anfibios
DESCRIPTION:Families will have an opportunity to view and interact with the herpetology collection from the Santa Cruz Museum of Natural History. Herpetology is a branch of zoology that studies reptiles and amphibians. The exhibit includes snake specimens in jars\, snake skins\, sea turtle carapace\, and even a live rosy boa named Dolores! \nLas familias tendrán la oportunidad de ver e interactuar con la colección de herpetología del Museo de Historia Natural de Santa Cruz. La herpetología es una rama de la zoología que estudia reptiles y anfibios. La exhibición incluye especímenes de serpientes en frascos\, pieles de serpiente\, caparazones de tortugas marinas\, e incluso una boa rosada viva llamada Dolores.
URL:https://santacruzmuseum.org/event/mobile-museum-reptiles-and-amphibians-museo-movil-reptiles-y-anfibios/
LOCATION:Watsonville Public Library\, 275 Main St STE 100\, Watsonville\, CA\, 95076\, United States
CATEGORIES:Mobile Museum,Vamos Afuera
ATTACH;FMTTYPE=image/jpeg:https://santacruzmuseum.org/wp-content/uploads/2025/09/1600x900-Website-Event-Images-3.jpg
END:VEVENT
BEGIN:VEVENT
DTSTART;TZID=America/Los_Angeles:20250808T143000
DTEND;TZID=America/Los_Angeles:20250808T161500
DTSTAMP:20260425T042615
CREATED:20250718T174635Z
LAST-MODIFIED:20250718T174635Z
UID:10000233-1754663400-1754669700@santacruzmuseum.org
SUMMARY:Mobile Museum at Watsonville Public Library
DESCRIPTION:Come enjoy our collection of shells\, sea sponges\, and more! We’ll learn about marine life and will make a shell print that you can take home. \n¡Venga a disfrutar de nuestra colección de conchas\, esponjas marinas y más! Aprenderemos sobre la vida marina y haremos una impresión de conchas que podrá llevar a casa.
URL:https://santacruzmuseum.org/event/mobile-museum-at-watsonville-public-library/
LOCATION:Watsonville Public Library\, 275 Main St STE 100\, Watsonville\, CA\, 95076\, United States
CATEGORIES:Mobile Museum,Vamos Afuera
ATTACH;FMTTYPE=image/png:https://santacruzmuseum.org/wp-content/uploads/2025/07/3.png
END:VEVENT
BEGIN:VEVENT
DTSTART;TZID=UTC:20250713T120000
DTEND;TZID=UTC:20250713T170000
DTSTAMP:20260425T042615
CREATED:20250620T233814Z
LAST-MODIFIED:20250627T204154Z
UID:10000222-1752408000-1752426000@santacruzmuseum.org
SUMMARY:Mobile Museum: Herpetology
DESCRIPTION:Join us for for a family-friendly event at Pajaro Valley Arts as part of their Off the Streets: Paint Jam event! See our herpetology collections and learn about our local environment. \n¡Únase a nosotros en un evento familiar en Pajaro Valley Arts! Descubra nuestras colecciones de herpetología y aprenda sobre nuestro entorno local. \n \n\nThese programs are funded by the Outdoor Equity Grants Program\, created through AB 209 and administered by California State Parks\, Office of Grants and Local Services. \nEstos programas son financiados por el Programa de Subvenciones de Equidad al Aire Libre\, creado a través AB 209 y administrado por la Oficina de Subvenciones y Servicios Locales de Parque Estatales de California.
URL:https://santacruzmuseum.org/event/mobile-museum-herpetology/
LOCATION:PVA Porter Building\, 280 Main St.\, Watsonville\, 95076\, United States
CATEGORIES:Mobile Museum,Vamos Afuera
ATTACH;FMTTYPE=image/png:https://santacruzmuseum.org/wp-content/uploads/2025/06/mobile-museum-herpetology.png
END:VEVENT
BEGIN:VEVENT
DTSTART;TZID=UTC:20250518T130000
DTEND;TZID=UTC:20250518T160000
DTSTAMP:20260425T042615
CREATED:20250418T044343Z
LAST-MODIFIED:20250418T044607Z
UID:10000143-1747573200-1747584000@santacruzmuseum.org
SUMMARY:Find Us At: The Redwoods Festival
DESCRIPTION:Join the Santa Cruz Museum of Natural History as we team up with the Sempervirens Fund to celebrate 125 years of protecting redwoods in the Santa Cruz Mountains! \nHosted among the redwoods at the historic Roaring Camp\, our first-ever Redwoods Festival will celebrate the redwoods. A day filled with fun\, connection\, and a celebration of the incredible work we’ve accomplished together to protect these majestic redwood forests. \nActivities to Enjoy:\n\nA scenic train ride through the beautiful Santa Cruz Mountains\nGuided hikes in partnership with Henry Cowell State Park\nLive music\nFood trucks
URL:https://santacruzmuseum.org/event/find-us-at-the-redwoods-festival/
LOCATION:Roaring Camp Railroads\, 5401 Graham Hill Rd.\, Felton\, CA\, 95018\, United States
CATEGORIES:Mobile Museum
ATTACH;FMTTYPE=image/png:https://santacruzmuseum.org/wp-content/uploads/2025/04/redwood-event-169.png
END:VEVENT
BEGIN:VEVENT
DTSTART;TZID=UTC:20250509T143000
DTEND;TZID=UTC:20250509T163000
DTSTAMP:20260425T042615
CREATED:20250416T234652Z
LAST-MODIFIED:20250416T234748Z
UID:10000139-1746801000-1746808200@santacruzmuseum.org
SUMMARY:Mobile Museum: Oceans
DESCRIPTION:Come find us at the Library! We will be sharing our Oceans themed collections : orca tooth\, krill\, baleen\, and more! \n¡Vaya a visitarnos a la Biblioteca! Compartiremos nuestras colecciones con temática oceánica: dientes de orca\, krill\, barbas y mucho más. \n\nThese programs are funded by the Outdoor Equity Grants Program\, created through AB 209 and administered by California State Parks\, Office of Grants and Local Services. \nEstos programas son financiados por el Programa de Subvenciones de Equidad al Aire Libre\, creado a través AB 209 y administrado por la Oficina de Subvenciones y Servicios Locales de Parque Estatales de California.
URL:https://santacruzmuseum.org/event/mobile-museum-oceans-copy/
LOCATION:Watsonville Public Library\, 275 Main St STE 100\, Watsonville\, CA\, 95076\, United States
CATEGORIES:Mobile Museum,Vamos Afuera
ATTACH;FMTTYPE=image/png:https://santacruzmuseum.org/wp-content/uploads/2025/04/OEP-ocean-mobile-museum.png
END:VEVENT
BEGIN:VEVENT
DTSTART;TZID=UTC:20250426T110000
DTEND;TZID=UTC:20250426T160000
DTSTAMP:20260425T042615
CREATED:20250417T034626Z
LAST-MODIFIED:20250417T034626Z
UID:10000142-1745665200-1745683200@santacruzmuseum.org
SUMMARY:Find Us At: Wilder Ranch’s Art in the Park
DESCRIPTION:Find the Santa Cruz Museum of Natural History at Wilder Ranch’s Art in the Park! We’ll be hosting environmentally-inspired art activities and displaying beautiful artifacts from our collections. \nCome celebrate the incredible artistic talent we have in our community\, especially artists inspired by nature. Bring your art supply of choice and get creative\, or take a peek at the park through an artists eyes if you’re not feeling artistic. Enjoy fun activities\, participate in mini-workshops\, get to know local artists and art organizations by visiting booths\, and soak up the spring sun. We hope to see you there! Rain cancels. \nAbout the Event:\nArtists and art-lovers\, this one’s for you! Join us at Wilder Ranch State Park on April 26th from 11-4 for our new special event: Art in the Park! \nThis event is free\, day-use parking is $10.
URL:https://santacruzmuseum.org/event/find-us-at-wilder-ranchs-art-in-the-park/
LOCATION:Wilder Ranch State Park\, 1401 Coast Road\, Santa Cruz\, CA\, 95060\, United States
CATEGORIES:Mobile Museum
ATTACH;FMTTYPE=image/jpeg:https://santacruzmuseum.org/wp-content/uploads/2025/04/Wilder_WebBanner-scaled-1.jpg
END:VEVENT
BEGIN:VEVENT
DTSTART;TZID=UTC:20250419T180000
DTEND;TZID=UTC:20250419T220000
DTSTAMP:20260425T042615
CREATED:20250417T034211Z
LAST-MODIFIED:20250417T034211Z
UID:10000141-1745085600-1745100000@santacruzmuseum.org
SUMMARY:Find Us At: Santa Cruz Brewing Festival
DESCRIPTION:Find the Santa Cruz Museum of Natural History at the Santa Cruz Brewing Festival! The Museum will host a history booth and an activity station. \nConnect with other community partners\, brewers\, and hobbyists. Enjoy drinks in a tasting room\, live music\, food\, and much more. \nAs a bonus for finding this event on the Museum’s website\, you’re entitled to a special discounted ticket. Enter “SCMNH15” at checkout for 15% off!
URL:https://santacruzmuseum.org/event/find-us-at-santa-cruz-brewing-festival/
LOCATION:Veterans Memorial Building\, 846 Front Street\, Santa Cruz\, CA\, 95060\, United States
CATEGORIES:Mobile Museum
ATTACH;FMTTYPE=image/png:https://santacruzmuseum.org/wp-content/uploads/2025/04/brew-fest.png
END:VEVENT
BEGIN:VEVENT
DTSTART;TZID=UTC:20250419T110000
DTEND;TZID=UTC:20250419T160000
DTSTAMP:20260425T042615
CREATED:20250416T235933Z
LAST-MODIFIED:20250417T033548Z
UID:10000140-1745060400-1745078400@santacruzmuseum.org
SUMMARY:Find Us At: Earth Day Santa Cruz
DESCRIPTION:Find the Santa Cruz Museum of Natural History at Earth Day Santa Cruz! We’ll be hosting environmentally-inspired science activities and displaying wild artifacts from our collections. \nEarth Day Santa Cruz is an annual event bringing our community together to promote environmental stewardship\, healthy living\, and sustainability. Together with local businesses\, schools\, and community organizations\, we engage our citizens through education\, hands-on learning\, and inspirational activities\, and place a special emphasis on youth participation. We strive to celebrate the importance of protecting our Earth’s resources and to collaborate on empowering the environmental movement in Santa Cruz County and beyond.
URL:https://santacruzmuseum.org/event/earth-day-santa-cruz/
LOCATION:Downtown Santa Cruz\, Pacific Ave.\, Santa Cruz\, CA\, 95060\, United States
CATEGORIES:Mobile Museum
ATTACH;FMTTYPE=image/png:https://santacruzmuseum.org/wp-content/uploads/2025/04/Earth-Day_Slide-2-940x400-1.png
END:VEVENT
BEGIN:VEVENT
DTSTART;TZID=UTC:20250417T173000
DTEND;TZID=UTC:20250417T210000
DTSTAMP:20260425T042616
CREATED:20250418T045526Z
LAST-MODIFIED:20250418T045526Z
UID:10000144-1744911000-1744923600@santacruzmuseum.org
SUMMARY:Find Us At: Wild & Scenic Film Festival
DESCRIPTION:Join the Santa Cruz Museum of Natural History as we team up with the Peninsula Open Space Trust for an unforgettable evening at the 2025 Wild & Scenic Film Festival. Inspiring environmental films\, live music\, and an engaging Community Fair all come together for a night of fun and environmental connections! \nThe Wild & Scenic Film Festival is the largest film festival of its kind\, showcasing the best and brightest in environmental and adventure films. Festival viewers can expect to see award-winning\, environmentally inspired short films and learn more about POST and our partners’ work here on the Peninsula and in the South Bay. \nDetails:\n\nFilm screenings\nLive music\nFood trucks\nCommunity Booths\nCost: Free\, limited space
URL:https://santacruzmuseum.org/event/find-us-at-wild-scenic-film-festival/
LOCATION:Smithwick Theatre\, Foothill College\, 12345 El Monte Road\, Los Altos\, CA\, 94022\, United States
CATEGORIES:Mobile Museum
ATTACH;FMTTYPE=image/png:https://santacruzmuseum.org/wp-content/uploads/2025/04/heron-event-169.png
END:VEVENT
BEGIN:VEVENT
DTSTART;TZID=UTC:20250411T143000
DTEND;TZID=UTC:20250411T163000
DTSTAMP:20260425T042616
CREATED:20250411T060619Z
LAST-MODIFIED:20250411T060619Z
UID:10000125-1744381800-1744389000@santacruzmuseum.org
SUMMARY:Mobile Museum: Oceans
DESCRIPTION:Come find us at the Library! We will be sharing our Oceans themed collections : orca tooth\, krill\, baleen\, and more! \n¡Vaya a visitarnos a la Biblioteca! Compartiremos nuestras colecciones con temática oceánica: dientes de orca\, krill\, barbas y mucho más. \n\nThese programs are funded by the Outdoor Equity Grants Program\, created through AB 209 and administered by California State Parks\, Office of Grants and Local Services. \nEstos programas son financiados por el Programa de Subvenciones de Equidad al Aire Libre\, creado a través AB 209 y administrado por la Oficina de Subvenciones y Servicios Locales de Parque Estatales de California.
URL:https://santacruzmuseum.org/event/mobile-museum-oceans/
LOCATION:Watsonville Public Library\, 275 Main St STE 100\, Watsonville\, CA\, 95076\, United States
CATEGORIES:Mobile Museum,Vamos Afuera
ATTACH;FMTTYPE=image/png:https://santacruzmuseum.org/wp-content/uploads/2025/04/OEP-ocean-mobile-museum.png
END:VEVENT
END:VCALENDAR